BEGIN:VCALENDAR
VERSION:2.0
PRODID:icalendar-ruby
CALSCALE:GREGORIAN
METHOD:PUBLISH
BEGIN:VEVENT
DTSTAMP:20260421T201322Z
UID:20-263735@newlynstreet.tithelysetup5.com
DTSTART:20261101T160000Z
DTEND:20261101T170000Z
CLASS:PUBLIC
CREATED:20260421T161034
DESCRIPTION:
LAST-MODIFIED:20260421T161034
LOCATION:
SUMMARY:Choir Practice
URL;VALUE=URI:https://newlynstreetumc.org/events/choir-practice/2026-11-01
ATTACH;FILENAME=6-Choir.jpg;FMTTYPE=image/jpeg:https://dq5pwpg1q8ru0.cloudf
 ront.net/2025/09/10/17/11/57/fb76c0f7-fb41-4783-9e94-586045da7e06/6-Choir.
 jpg
END:VEVENT
END:VCALENDAR
